BEGIN:VCALENDAR
VERSION:2.0
PRODID:-//Forces School &amp; College System - ECPv6.15.20//NONSGML v1.0//EN
CALSCALE:GREGORIAN
METHOD:PUBLISH
X-WR-CALNAME:Forces School &amp; College System
X-ORIGINAL-URL:https://fscs.edu.pk
X-WR-CALDESC:Events for Forces School &amp; College System
REFRESH-INTERVAL;VALUE=DURATION:PT1H
X-Robots-Tag:noindex
X-PUBLISHED-TTL:PT1H
BEGIN:VTIMEZONE
TZID:UTC
BEGIN:STANDARD
TZOFFSETFROM:+0000
TZOFFSETTO:+0000
TZNAME:UTC
DTSTART:20250101T000000
END:STANDARD
END:VTIMEZONE
BEGIN:VEVENT
DTSTART;TZID=UTC:20260421T080000
DTEND;TZID=UTC:20260421T170000
DTSTAMP:20260420T095221
CREATED:20260411T052751Z
LAST-MODIFIED:20260411T052751Z
UID:2440-1776758400-1776790800@fscs.edu.pk
SUMMARY:Iqbal Death Anniversary
DESCRIPTION:
URL:https://fscs.edu.pk/event/iqbal-death-anniversary/
LOCATION:Forces School System\, Forces School & College System\, Blue World City\, Chakri\, Islamabad\, Pakistan
CATEGORIES:Events
END:VEVENT
BEGIN:VEVENT
DTSTART;TZID=UTC:20260422T080000
DTEND;TZID=UTC:20260422T170000
DTSTAMP:20260420T095221
CREATED:20260411T052816Z
LAST-MODIFIED:20260411T052816Z
UID:2442-1776844800-1776877200@fscs.edu.pk
SUMMARY:Earth Day
DESCRIPTION:
URL:https://fscs.edu.pk/event/earth-day/
LOCATION:Forces School System\, Forces School & College System\, Blue World City\, Chakri\, Islamabad\, Pakistan
CATEGORIES:Events
END:VEVENT
BEGIN:VEVENT
DTSTART;TZID=UTC:20260422T080000
DTEND;TZID=UTC:20260422T170000
DTSTAMP:20260420T095221
CREATED:20260411T052902Z
LAST-MODIFIED:20260411T052902Z
UID:2444-1776844800-1776877200@fscs.edu.pk
SUMMARY:Green Colour Day (Pre School)
DESCRIPTION:
URL:https://fscs.edu.pk/event/green-colour-day-pre-school/
LOCATION:Forces School System\, Forces School & College System\, Blue World City\, Chakri\, Islamabad\, Pakistan
CATEGORIES:Events
END:VEVENT
END:VCALENDAR